BEGIN:VCALENDAR
VERSION:2.0
PRODID:-//ChamberMaster//Event Calendar 2.0//EN
METHOD:PUBLISH
X-PUBLISHED-TTL:P3D
REFRESH-INTERVAL:P3D
CALSCALE:GREGORIAN
BEGIN:VEVENT
DTSTART:20080306T140000Z
DTEND:20080306T160000Z
X-MICROSOFT-CDO-ALLDAYEVENT:FALSE
SUMMARY:Business Forum 1 - 08/03/06
DESCRIPTION:
X-ALT-DESC;FMTTYPE=text/html:
LOCATION:Nyborg & Company\, Ltd.
UID:e.1902.1693
SEQUENCE:3
DTSTAMP:20260426T023902Z
URL:https://business.bataviachamber.org/events/details/business-forum-1-08-03-06-03-06-2008-1693
END:VEVENT

END:VCALENDAR
