BEGIN:VCALENDAR
VERSION:2.0
PRODID:-//ChamberMaster//Event Calendar 2.0//EN
METHOD:PUBLISH
X-PUBLISHED-TTL:P3D
REFRESH-INTERVAL:P3D
CALSCALE:GREGORIAN
BEGIN:VEVENT
DTSTART:20110317T130000Z
DTEND:20110317T150000Z
X-MICROSOFT-CDO-ALLDAYEVENT:FALSE
SUMMARY:Building a Great Brand
DESCRIPTION:Few organizations create a brand you can literally walk into. Interiors for Business' brand begins the moment you enter their amazing\, state-of-the-art showroom. Come hear from practitioners\, not theorists\, about how they continue to build their brand.
X-ALT-DESC;FMTTYPE=text/html:<P align=left><FONT face=Arial size=4>Few organizations create a brand you can literally walk into. <FONT color=#800000>Interiors for Business</FONT>' brand begins the moment you enter their amazing\, state-of-the-art showroom. Come hear from practitioners\, not theorists\, about how they continue to build their brand.</FONT></P>
LOCATION:Interiors for Business\, Inc.
UID:e.1902.1838
SEQUENCE:3
DTSTAMP:20260419T194005Z
URL:https://business.bataviachamber.org/events/details/building-a-great-brand-03-17-2011-1838
END:VEVENT

END:VCALENDAR
