BEGIN:VCALENDAR
VERSION:2.0
PRODID:-//ChamberMaster//Event Calendar 2.0//EN
METHOD:PUBLISH
X-PUBLISHED-TTL:P3D
REFRESH-INTERVAL:P3D
CALSCALE:GREGORIAN
BEGIN:VEVENT
DTSTART:20201030T213000Z
DTEND:20201030T223000Z
X-MICROSOFT-CDO-ALLDAYEVENT:FALSE
SUMMARY:Bubbles' Mobil Halloween Parade!!!
DESCRIPTION:Join us for a spooktacular celebration with Bubbles!\n\nGet your Halloween costumes on and stop by for a special Halloween treat from the safety of your own vehicle.\n\nCome take a picture with Bubbles and receive a goodie bag on October 30th from 4:30-5:30 pm.\n\n\n\nClick here for your Eventbrite ticket!
X-ALT-DESC;FMTTYPE=text/html:<p>J<strong>oin us for a </strong><strong><em>spooktacular </em></strong><strong>celebration with Bubbles!</strong></p>\n\n<p>Get your Halloween costumes on and stop by for a special Halloween treat from the safety of your own vehicle.<br />\nCome take a picture with Bubbles and receive a goodie bag on October 30th from 4:30-5:30 pm.<br />\n<br />\nClick <a href="https://www.eventbrite.com/e/bubbles-mobile-halloween-parade-tickets-125545242199">here </a>for your Eventbrite ticket!</p>\n
LOCATION:1555 Mesa Lane Aurora\, IL 60502
UID:e.1902.12692
SEQUENCE:3
DTSTAMP:20260422T095352Z
URL:https://business.bataviachamber.org/events/details/bubbles-mobil-halloween-parade-12692
END:VEVENT

END:VCALENDAR
