BEGIN:VCALENDAR
VERSION:2.0
PRODID:-//ChamberMaster//Event Calendar 2.0//EN
METHOD:PUBLISH
X-PUBLISHED-TTL:P3D
REFRESH-INTERVAL:P3D
CALSCALE:GREGORIAN
BEGIN:VEVENT
DTSTART:20091014T050000Z
DTEND:20091014T050000Z
X-MICROSOFT-CDO-ALLDAYEVENT:FALSE
SUMMARY:Breast Cancer Awareness
DESCRIPTION:Prevention is the best cure. Learn valuable information and tips for breast health including important everyday choices\, cancer and its myths and realities\, breast self­exams and mammograms from Rosalinda Saucedo\, Breast Health Outreach Coordinator at Rush­Copley Medical Center and Judy Guitelman\, Program Coordinator at Breast Cancer Network of Strength. Tell your friends and come together duringBreast Cancer  Awareness Month. \nSessions in English and Spanish. \nFor more information\, call Rosalinda at 630­898­6493. \nChoose from the following times : 3­4 p.m. or 4­5 p.m. or 5­6 p.m.
X-ALT-DESC;FMTTYPE=text/html:Prevention is the best cure. Learn valuable information and tips for breast health including important everyday choices\, cancer and its myths and realities\, breast self­exams and mammograms from Rosalinda Saucedo\, Breast Health Outreach Coordinator at Rush­Copley Medical Center and Judy Guitelman\, Program Coordinator at Breast Cancer Network of Strength. Tell your friends and come together duringBreast Cancer  Awareness Month. \nSessions in English and Spanish. \nFor more information\, call Rosalinda at 630­898­6493. \nChoose from the following times : 3­4 p.m. or 4­5 p.m. or 5­6 p.m. \n
LOCATION:Panera Bread
UID:e.1902.1060
SEQUENCE:3
DTSTAMP:20260421T025831Z
URL:https://business.bataviachamber.org/events/details/breast-cancer-awareness-10-14-2009-1060
END:VEVENT

END:VCALENDAR
