BEGIN:VCALENDAR
VERSION:2.0
PRODID:-//ChamberMaster//Event Calendar 2.0//EN
METHOD:PUBLISH
X-PUBLISHED-TTL:P3D
REFRESH-INTERVAL:P3D
CALSCALE:GREGORIAN
BEGIN:VEVENT
DTSTART:20091213T060000Z
DTEND:20091213T060000Z
X-MICROSOFT-CDO-ALLDAYEVENT:FALSE
SUMMARY:Breakfast with Santa
DESCRIPTION:Eagle Brook Country Club Presents...\nBreakfast with Santa!\nMade to Order Omelet Station\nFrench Toast & Chocolate Chip Pancakes\nScrambled Eggs\nBreakfast Potatoes\nHickory Smoked Bacon\nMaple Sausage Links\nFresh Seasonal Fruit\nBreakfast Pastries & Muffins\nChef Carved Ham
X-ALT-DESC;FMTTYPE=text/html:Eagle Brook Country Club Presents...\nBreakfast with Santa!\nMade to Order Omelet Station\nFrench Toast & Chocolate Chip Pancakes\nScrambled Eggs\nBreakfast Potatoes\nHickory Smoked Bacon\nMaple Sausage Links\nFresh Seasonal Fruit\nBreakfast Pastries & Muffins\nChef Carved Ham
LOCATION:Eagle Brook Country Club
UID:e.1902.1077
SEQUENCE:3
DTSTAMP:20260420T213040Z
URL:https://business.bataviachamber.org/events/details/breakfast-with-santa-12-13-2009-1077
END:VEVENT

END:VCALENDAR
