BEGIN:VCALENDAR
VERSION:2.0
PRODID:-//ChamberMaster//Event Calendar 2.0//EN
METHOD:PUBLISH
X-PUBLISHED-TTL:P3D
REFRESH-INTERVAL:P3D
CALSCALE:GREGORIAN
BEGIN:VEVENT
DTSTART:20161203T143000Z
DTEND:20161203T163000Z
X-MICROSOFT-CDO-ALLDAYEVENT:FALSE
SUMMARY:Breakfast with Santa
DESCRIPTION:Ho! Ho! Ho! Here comes Santa Claus! He has come to share breakfast with you! Families will be able to see Santa before the entertainment. Santa will talk to each boy and girl\, then hand them a present. Bring your camera!\n\n \n\nBreakfast will be prepared by the Batavia Lions Club and consists of pancakes\, sausage\, eggs\, fruit\, coffee\, juice and milk. By 9:15 am\, Santa will say goodbye and then everyone can enjoy a wonderful entertainer. Children can even participate in the show! Ages 2 and up must register. High chairs are not available. Breakfast will be served at 8:30 am.\n\n \n\nFees\n\nFamily of 4: $47/54/61\n\nPer Person: $14/16/18\n\n \n\nPlease call 630-879-5235 to register or for more information. *Please note\, if registering on the web\, every family member must be registered. Apply the appropriate fee to the first participant\, then select "no" to all other family members.
X-ALT-DESC;FMTTYPE=text/html:<div>Ho! Ho! Ho! Here comes Santa Claus! He has come to share breakfast with you! Families will be able to see Santa before the entertainment. Santa will talk to each boy and girl\, then hand them a present. Bring your camera!</div>\n\n<div>&nbsp\;</div>\n\n<div>Breakfast will be prepared by the Batavia Lions Club and consists of pancakes\, sausage\, eggs\, fruit\, coffee\, juice and milk. By 9:15 am\, Santa will say goodbye and then everyone can enjoy a wonderful entertainer. Children can even participate in the show! Ages 2 and up must register. High chairs are not available. Breakfast will be served at 8:30 am.</div>\n\n<div>&nbsp\;</div>\n\n<div><u>Fees</u></div>\n\n<div>Family of 4: $47/54/61</div>\n\n<div>Per Person: $14/16/18</div>\n\n<div>&nbsp\;</div>\n\n<div>Please call 630-879-5235 to register or for more information. *Please note\, if registering on the web\, every family member must be registered. Apply the appropriate fee to the first participant\, then select &quot\;no&quot\; to all other family members.&nbsp\;</div>\n
LOCATION:Eastside Community Center\, 14 N. Van Buren Street\, Batavia\, IL 60510
UID:e.1902.6299
SEQUENCE:3
DTSTAMP:20260425T174837Z
URL:https://business.bataviachamber.org/events/details/breakfast-with-santa-12-03-2016-6299
END:VEVENT

END:VCALENDAR
