BEGIN:VCALENDAR
VERSION:2.0
PRODID:-//ChamberMaster//Event Calendar 2.0//EN
METHOD:PUBLISH
X-PUBLISHED-TTL:P3D
REFRESH-INTERVAL:P3D
CALSCALE:GREGORIAN
BEGIN:VEVENT
DTSTART;VALUE=DATE:20081128
DTEND;VALUE=DATE:20081222
TRANSP:TRANSPARENT
X-MICROSOFT-CDO-ALLDAYEVENT:TRUE
SUMMARY:Boy Scout Troop 12 Christmas Tree Sale
DESCRIPTION:Batavia Boy Scout Troop 12 is having their annual Christmas tree sales fund raising event. The freshly cut trees will be delivered from Wisconsin on November 28.  A variety of items are available.  Christmas trees include a wide selection of Balsam Fir and Balsam/Fraser (cross) trees in sizes ranging from 5’ to 14’.  Christmas Wreaths ranging from 12” to 48” (in diameter)\, 3 types of Roping (sold by the foot)\, and Pine Tips are also available.  Most trees can also be baled for easy loading and the trip home.LocationThe tree lot is located on Route 25\, about 1 mile South of Wilson Street\, in the Clark Island recreation area parking lot. Lot hours are:    November 28 – 1 pm to 9 pm     Weekends – 9 am to 9 pm    Weekdays – 5 pm to 9 pm  Proceed are used to support troop scouting activities.
X-ALT-DESC;FMTTYPE=text/html:<P class=MsoNormal align=left><P class=MsoNormal align=left><FONT face="Times New Roman" size=3><SPAN style="FONT-SIZE: 12pt">Batavia Boy Scout Troop 12 is having their annual Christmas tree sales fund raising event. The freshly cut trees will be delivered from Wisconsin on November 28.&nbsp\; </SPAN></FONT></P><P class=MsoNormal align=left><FONT face="Times New Roman" size=3><SPAN style="FONT-SIZE: 12pt">A variety of items are available.&nbsp\; Christmas trees include a wide selection of Balsam Fir and Balsam/Fraser (cross) trees in sizes ranging from 5’ to 14’.&nbsp\; Christmas Wreaths ranging from 12” to 48” (in diameter)\, 3 types of Roping (sold by the foot)\, and Pine Tips are also available.&nbsp\; Most trees can also be baled for easy loading and the trip home.</SPAN></FONT></P><P class=MsoNormal align=left><FONT face="Times New Roman" size=3><SPAN style="FONT-SIZE: 12pt">Location</SPAN></FONT></P><P class=MsoNormal align=left><FONT face="Times New Roman" size=3><SPAN style="FONT-SIZE: 12pt">The tree lot is located on Route 25\, about 1 mile&nbsp\;South of Wilson Street\, in the Clark Island recreation area parking lot. </SPAN></FONT></P><P class=MsoNormal align=left><FONT face="Times New Roman" size=3><SPAN style="FONT-SIZE: 12pt">Lot hours are:</SPAN></FONT></P><P class=MsoNormal align=left><FONT face="Times New Roman" size=3><SPAN style="FONT-SIZE: 12pt">&nbsp\;&nbsp\;&nbsp\; November 28 – 1 pm to 9 pm </SPAN></FONT></P><P class=MsoNormal align=left><FONT face="Times New Roman" size=3><SPAN style="FONT-SIZE: 12pt">&nbsp\;&nbsp\;&nbsp\; Weekends – 9 am to 9 pm</SPAN></FONT></P><P class=MsoNormal align=left><FONT face="Times New Roman" size=3><SPAN style="FONT-SIZE: 12pt">&nbsp\;&nbsp\;&nbsp\; Weekdays – 5 pm to 9 pm </SPAN></FONT></P><P class=MsoNormal align=left><FONT face="Times New Roman" size=3><SPAN style="FONT-SIZE: 12pt">&nbsp\;</SPAN></FONT><FONT face="Times New Roman" size=3><SPAN style="FONT-SIZE: 12pt">Proceed are used to support troop scouting activities.</SPAN></FONT></P><P class=MsoNormal align=left><FONT face="Times New Roman" size=3><SPAN style="FONT-SIZE: 12pt"></SPAN></FONT>&nbsp\;</P><P align=left></P>
LOCATION:Rt 25 (1 mile South of Wilson)
UID:e.1902.1613
SEQUENCE:3
DTSTAMP:20260421T194744Z
URL:https://business.bataviachamber.org/events/details/boy-scout-troop-12-christmas-tree-sale-11-28-2008-1613
END:VEVENT

END:VCALENDAR
