BEGIN:VCALENDAR
VERSION:2.0
PRODID:-//ChamberMaster//Event Calendar 2.0//EN
METHOD:PUBLISH
X-PUBLISHED-TTL:P3D
REFRESH-INTERVAL:P3D
CALSCALE:GREGORIAN
BEGIN:VEVENT
DTSTART:20081120T180000Z
DTEND:20081120T190000Z
X-MICROSOFT-CDO-ALLDAYEVENT:FALSE
SUMMARY:Books Between Bites with Roger Breisch
DESCRIPTION:Kitchen Table Wisdom and My Grandfather’s Blessings by Rachel Naomi Remen\, M.D. Reviewd by Roger Breisch\, Executive Director of the Batavia Chamber of Commerce Dr Rachel Remen was trained as a medical doctor\, but life had other plans for her. She spent most of her career counseling patients\, many of whom were terminally ill with cancer. These are books of stories\, but stories that will change you life. While you might think they are stories of sadness and desperation\, they are instead stories of hope…stories of wisdom…stories of life and living given to us by those who are dying. These are the stories that change who we are and how we think.
X-ALT-DESC;FMTTYPE=text/html:<P class=MsoNormal style="MARGIN: 0in 0in 0pt\; FONT-FAMILY: Arial" align=left><I style="mso-bidi-font-style: normal"><STRONG>Kitchen Table Wisdom</STRONG></I> and <I style="mso-bidi-font-style: normal"><STRONG>My Grandfather’s Blessings</STRONG></I> by Rachel Naomi Remen\, M.D.</P><P class=MsoNormal style="MARGIN: 0in 0in 0pt\; FONT-FAMILY: Arial" align=left>&nbsp\;</P><P class=MsoNormal style="MARGIN: 0in 0in 0pt\; FONT-FAMILY: Arial" align=left>Reviewd by Roger Breisch\, Executive Director of the Batavia Chamber of Commerce</P><P class=MsoNormal style="MARGIN: 0in 0in 0pt\; FONT-FAMILY: Arial" align=left><?xml:namespace prefix = o ns = "urn:schemas-microsoft-com:office:office" /><o:p>&nbsp\;</o:p></P><P class=MsoNormal style="MARGIN: 0in 0in 0pt\; FONT-FAMILY: Arial" align=left>Dr Rachel Remen was trained as a medical doctor\, but life had other plans for her. She spent most of her career counseling patients\, many of whom were terminally ill with cancer. These are books of stories\, but stories that will change you life. While you might think they are stories of sadness and desperation\, they are instead stories of hope…stories of wisdom…stories of life and living given to us by those who are dying. These are the stories that change who we are and how we think.</P>
LOCATION:Batavia Public Library
UID:e.1902.1610
SEQUENCE:3
DTSTAMP:20260421T213348Z
URL:https://business.bataviachamber.org/events/details/books-between-bites-with-roger-breisch-11-20-2008-1610
END:VEVENT

END:VCALENDAR
