BEGIN:VCALENDAR
VERSION:2.0
PRODID:-//ChamberMaster//Event Calendar 2.0//EN
METHOD:PUBLISH
X-PUBLISHED-TTL:P3D
REFRESH-INTERVAL:P3D
CALSCALE:GREGORIAN
BEGIN:VEVENT
DTSTART:20090219T180000Z
DTEND:20090219T190000Z
X-MICROSOFT-CDO-ALLDAYEVENT:FALSE
SUMMARY:Books Between Bites with Lester Munson
DESCRIPTION:Rome 1960: The Olympics That Changed the World by David Maraniss      \nPresenter: Lester Munson\nNationally known commentator\, writer\, ESPN editor\, and our go-to guy on sports topics\, Munson shares his impressions of two new sports books. Bowden argues that the Giants-Colts championship game of 1958 established the NFL.  Maraniss asserts that the 1960 Olympics changed the entire world.  Is either writer correct?  Munson will answer.
X-ALT-DESC;FMTTYPE=text/html:<P align=left><FONT face=Arial><STRONG>Rome 1960: <EM>The Olympics That Changed the World</EM> by David Maraniss&nbsp\;&nbsp\;&nbsp\;&nbsp\;&nbsp\; <BR>Presenter: Lester Munson</STRONG></FONT></P><FONT face=Arial><P align=left><BR>Nationally known commentator\, writer\, ESPN editor\, and our go-to guy on sports topics\, Munson shares his impressions of two new sports books. Bowden argues that the Giants-Colts championship game of 1958 established the NFL.&nbsp\; Maraniss asserts that the 1960 Olympics changed the entire world.&nbsp\; Is either writer correct?&nbsp\; Munson will answer.<BR></P></FONT>
LOCATION:Batavia Public Library
UID:e.1902.1618
SEQUENCE:3
DTSTAMP:20260421T162635Z
URL:https://business.bataviachamber.org/events/details/books-between-bites-with-lester-munson-02-19-2009-1618
END:VEVENT

END:VCALENDAR
