BEGIN:VCALENDAR
VERSION:2.0
PRODID:-//ChamberMaster//Event Calendar 2.0//EN
METHOD:PUBLISH
X-PUBLISHED-TTL:P3D
REFRESH-INTERVAL:P3D
CALSCALE:GREGORIAN
BEGIN:VEVENT
DTSTART:20090521T170000Z
DTEND:20090521T180000Z
X-MICROSOFT-CDO-ALLDAYEVENT:FALSE
SUMMARY:Books Between Bites with Daniel Weinberg
DESCRIPTION:Treasures of the Abraham Lincoln Book Shop\nPresenter: Daniel Weinberg\nWe welcome the proprietor of Chicago’s Abraham Lincoln Book Shop to our final program of the year. He will tell the story and show pictures of artifacts that have passed through the shop in the past 37 years\, sharing a dealer’s perspective. If you have items relating to the Lincoln era\, bring them to the program and he will comment on their relevance.
X-ALT-DESC;FMTTYPE=text/html:<P align=left><FONT face=Arial><STRONG>Treasures of the Abraham Lincoln Book Shop<BR>Presenter: Daniel Weinberg</STRONG></FONT></P><FONT face=Arial><P align=left><BR>We welcome the proprietor of Chicago’s Abraham Lincoln Book Shop to our final program of the year. He will tell the story and show pictures of artifacts that have passed through the shop in the past 37 years\, sharing a dealer’s perspective. If you have items relating to the Lincoln era\, bring them to the program and he will comment on their relevance.<BR></P></FONT>
LOCATION:Batavia Public Library
UID:e.1902.1621
SEQUENCE:3
DTSTAMP:20260421T103823Z
URL:https://business.bataviachamber.org/events/details/books-between-bites-with-daniel-weinberg-05-21-2009-1621
END:VEVENT

END:VCALENDAR
