BEGIN:VCALENDAR
VERSION:2.0
PRODID:-//ChamberMaster//Event Calendar 2.0//EN
METHOD:PUBLISH
X-PUBLISHED-TTL:P3D
REFRESH-INTERVAL:P3D
CALSCALE:GREGORIAN
BEGIN:VEVENT
DTSTART:20081218T180000Z
DTEND:20081218T190000Z
X-MICROSOFT-CDO-ALLDAYEVENT:FALSE
SUMMARY:Books Between Bites with Batavia Mayor Jeffery Schielke
DESCRIPTION:More Batavia Literary Highlights    \nPresenter: Mayor Jeff Schielke\nBatavia’s mayor launched the program twenty-one seasons ago and has presented each year since. His special interest is searching for mention of our community in various literary sources and he returns to share his latest finds.
X-ALT-DESC;FMTTYPE=text/html:<P align=left><FONT face=Arial><STRONG>More Batavia Literary Highlights&nbsp\;&nbsp\;&nbsp\; <BR>Presenter: Mayor Jeff Schielke</STRONG></FONT></P><FONT face=Arial><STRONG><P align=left><BR></STRONG>Batavia’s mayor launched the program twenty-one seasons ago and has presented each year since. His special interest is searching for mention of our community in various literary sources and he returns to share his latest finds.<BR></P></FONT>
LOCATION:Batavia Public Library
UID:e.1902.1616
SEQUENCE:3
DTSTAMP:20260421T194107Z
URL:https://business.bataviachamber.org/events/details/books-between-bites-with-batavia-mayor-jeffery-schielke-12-18-2008-1616
END:VEVENT

END:VCALENDAR
