BEGIN:VCALENDAR
VERSION:2.0
PRODID:-//ChamberMaster//Event Calendar 2.0//EN
METHOD:PUBLISH
X-PUBLISHED-TTL:P3D
REFRESH-INTERVAL:P3D
CALSCALE:GREGORIAN
BEGIN:VEVENT
DTSTART:20090416T170000Z
DTEND:20090416T180000Z
X-MICROSOFT-CDO-ALLDAYEVENT:FALSE
SUMMARY:Books Between Bites with Barbara Kalina
DESCRIPTION:Three Cups of Tea: One Man's Mission to Promote Peace...One School at a Time          \nPresenter: Barbara Kalina\nA retired Batavia educator and now an educational consultant\, Kalina will share Mortenson’s inspiring true story. His experience in Pakistan lead him on a quest to build schools in the Third World\, to fight terrorism with books not bombs.
X-ALT-DESC;FMTTYPE=text/html:<P align=left><FONT face=Arial><STRONG><EM>Three Cups of Tea: One Man's Mission to Promote Peace...One School at a Time</EM></STRONG>&nbsp\;&nbsp\;&nbsp\;&nbsp\;&nbsp\;&nbsp\;&nbsp\;&nbsp\;&nbsp\; <BR><STRONG>Presenter: Barbara Kalina</STRONG></FONT></P><P align=left><BR><FONT face=Arial>A retired Batavia educator and now an educational consultant\, Kalina will share Mortenson’s inspiring true story. His experience in Pakistan lead him on a quest to build schools in the Third World\, to fight terrorism with books not bombs.<BR></FONT></P>
LOCATION:Batavia Public Library
UID:e.1902.1620
SEQUENCE:3
DTSTAMP:20260421T125613Z
URL:https://business.bataviachamber.org/events/details/books-between-bites-with-barbara-kalina-04-16-2009-1620
END:VEVENT

END:VCALENDAR
