BEGIN:VCALENDAR
VERSION:2.0
PRODID:-//ChamberMaster//Event Calendar 2.0//EN
METHOD:PUBLISH
X-PUBLISHED-TTL:P3D
REFRESH-INTERVAL:P3D
CALSCALE:GREGORIAN
BEGIN:VEVENT
DTSTART:20081016T170000Z
DTEND:20081016T180000Z
X-MICROSOFT-CDO-ALLDAYEVENT:FALSE
SUMMARY:Books Between Bites with Author Rick Kogan
DESCRIPTION:Author Rick Kogan has been busy since his last annual appearance\, writing a children's book AND a novel - Deadline the Dog Detective & Riverview. You read him in the Chicago Tribune and hear him on his WGN radio show "Sunday Papers." You'll enjoy hearing about these books and all the other tidbits he'll share about Chicago\, newspapers\, and unique thing in life to treasure.
X-ALT-DESC;FMTTYPE=text/html:<DIV style="FONT-FAMILY: Arial" align=left>Author Rick Kogan has been busy since his last annual appearance\, writing a children's book AND a novel - <STRONG><EM>Deadline the Dog Detectiv</EM>e &amp\; <EM>Riverview</EM>. </STRONG>You read him in the <EM>Chicago Tribune</EM> and hear him on his WGN radio show "Sunday Papers." You'll enjoy hearing about these books and all the other tidbits he'll share about Chicago\, newspapers\, and unique thing in life to treasure.</DIV>
LOCATION:Batavia Public Library
UID:e.1902.1588
SEQUENCE:3
DTSTAMP:20260421T230227Z
URL:https://business.bataviachamber.org/events/details/books-between-bites-with-author-rick-kogan-10-16-2008-1588
END:VEVENT

END:VCALENDAR
