BEGIN:VCALENDAR
VERSION:2.0
PRODID:-//ChamberMaster//Event Calendar 2.0//EN
METHOD:PUBLISH
X-PUBLISHED-TTL:P3D
REFRESH-INTERVAL:P3D
CALSCALE:GREGORIAN
BEGIN:VEVENT
DTSTART:20090115T180000Z
DTEND:20090115T190000Z
X-MICROSOFT-CDO-ALLDAYEVENT:FALSE
SUMMARY:Books Between Bites with Author Beth Finke
DESCRIPTION:Hanni and Beth: Safe & Sound \nPresenter/Author: Beth Finke\nWe welcome Finke back to discuss her new book in which a Seeing Eye dog explains her important job. Beth and Hanni will lead the session together\, demonstrating the rewards of teamwork\, animal companionship\, and perseverance. Beth is an NPR commentator\, a memoir teacher for Chicago's Commission on Aging\, and a part-time blog moderator for Easter Seals Headquarters.  In 2005\, she visited our program to talk about her memoir Long Time\, No See. Copies of Finke's books will be available for purchase and signing.
X-ALT-DESC;FMTTYPE=text/html:<P class=MsoNormal style="MARGIN: 0in 0in 0pt\; FONT-FAMILY: Arial" align=left><STRONG><EM>Hanni and Beth: Safe &amp\; Sound <BR></EM>Presenter/Author: Beth Finke</STRONG></P><P class=MsoNormal style="MARGIN: 0in 0in 0pt\; FONT-FAMILY: Arial" align=left><BR>We welcome Finke back to discuss her new book in which a Seeing Eye dog explains her important job. Beth and Hanni will lead the session together\, demonstrating the rewards of teamwork\, animal companionship\, and perseverance. Beth is an NPR commentator\, a memoir teacher for Chicago's Commission on Aging\, and a part-time blog moderator for Easter Seals Headquarters.&nbsp\; In 2005\, she visited our program to talk about her memoir <EM>Long Time\, No See</EM>. Copies of Finke's books will be available for purchase and signing.<BR></P><P class=MsoNormal style="MARGIN: 0in 0in 0pt\; FONT-FAMILY: Arial" align=left></P>
LOCATION:Batavia Public Library
UID:e.1902.1617
SEQUENCE:3
DTSTAMP:20260421T175947Z
URL:https://business.bataviachamber.org/events/details/books-between-bites-with-author-beth-finke-01-15-2009-1617
END:VEVENT

END:VCALENDAR
