BEGIN:VCALENDAR
VERSION:2.0
PRODID:-//ChamberMaster//Event Calendar 2.0//EN
METHOD:PUBLISH
X-PUBLISHED-TTL:P3D
REFRESH-INTERVAL:P3D
CALSCALE:GREGORIAN
BEGIN:VEVENT
DTSTART:20090319T170000Z
DTEND:20090319T180000Z
X-MICROSOFT-CDO-ALLDAYEVENT:FALSE
SUMMARY:Books Between Bites - One Book One Batavia Selection
DESCRIPTION:Selection To Be Announced
X-ALT-DESC;FMTTYPE=text/html:<P align=left><FONT face=Arial><STRONG>Selection To Be Announced</STRONG></FONT></P>
LOCATION:Batavia Public Library
UID:e.1902.1619
SEQUENCE:3
DTSTAMP:20260421T143820Z
URL:https://business.bataviachamber.org/events/details/books-between-bites-one-book-one-batavia-selection-03-19-2009-1619
END:VEVENT

END:VCALENDAR
