BEGIN:VCALENDAR
VERSION:2.0
PRODID:-//ChamberMaster//Event Calendar 2.0//EN
METHOD:PUBLISH
X-PUBLISHED-TTL:P3D
REFRESH-INTERVAL:P3D
CALSCALE:GREGORIAN
BEGIN:VEVENT
DTSTART:20100219T060000Z
DTEND:20100219T060000Z
X-MICROSOFT-CDO-ALLDAYEVENT:FALSE
SUMMARY:BLAST! The Movie
DESCRIPTION:Award winning documentary film with pre-film lecture by Dr. Mark Devlin\, and post-film Q&A with thefilms director\, Paul Devlin.
X-ALT-DESC;FMTTYPE=text/html:Award winning documentary film with pre-film lecture by Dr. Mark Devlin\, and post-film Q&A with thefilms director\, Paul Devlin.
LOCATION:Fermilab's Ramsey Auditorium
UID:e.1902.1120
SEQUENCE:3
DTSTAMP:20260420T175335Z
URL:https://business.bataviachamber.org/events/details/blast-the-movie-02-19-2010-1120
END:VEVENT

END:VCALENDAR
