BEGIN:VCALENDAR
VERSION:2.0
PRODID:-//ChamberMaster//Event Calendar 2.0//EN
METHOD:PUBLISH
X-PUBLISHED-TTL:P3D
REFRESH-INTERVAL:P3D
CALSCALE:GREGORIAN
BEGIN:VEVENT
DTSTART:20090221T060000Z
DTEND:20090221T060000Z
X-MICROSOFT-CDO-ALLDAYEVENT:FALSE
SUMMARY:Big Brothers Big Sisters Wii Bowling Tournament
DESCRIPTION:Alden Gardens of Waterford and Big Brothers Big Sisters of Kane/Kendall Counties are joining together to Bowl For Kids' Sake! Come join in on a Wii Bowling Tournament.
X-ALT-DESC;FMTTYPE=text/html:Alden Gardens&nbsp\;of Waterford and Big Brothers Big Sisters of Kane/Kendall Counties are joining together to Bowl For Kids' Sake! Come join in on a Wii Bowling Tournament.
LOCATION:Alden Gardens of Waterford
UID:e.1902.838
SEQUENCE:3
DTSTAMP:20260421T163010Z
URL:https://business.bataviachamber.org/events/details/big-brothers-big-sisters-wii-bowling-tournament-02-21-2009-838
END:VEVENT

END:VCALENDAR
