BEGIN:VCALENDAR
VERSION:2.0
PRODID:-//ChamberMaster//Event Calendar 2.0//EN
METHOD:PUBLISH
X-PUBLISHED-TTL:P3D
REFRESH-INTERVAL:P3D
CALSCALE:GREGORIAN
BEGIN:VEVENT
DTSTART:20090815T050000Z
DTEND:20090815T050000Z
X-MICROSOFT-CDO-ALLDAYEVENT:FALSE
SUMMARY:BHS Cheer Team Car Wash
DESCRIPTION:Car wash fund raiser\nDonations accepted\nClean Cars guarenteed !
X-ALT-DESC;FMTTYPE=text/html:Car wash fund raiser\nDonations accepted\nClean Cars guarenteed !
LOCATION:Batavia Park District Civic Center
UID:e.1902.959
SEQUENCE:3
DTSTAMP:20260425T003155Z
URL:https://business.bataviachamber.org/events/details/bhs-cheer-team-car-wash-08-15-2009-959
END:VEVENT

END:VCALENDAR
