BEGIN:VCALENDAR
VERSION:2.0
PRODID:-//ChamberMaster//Event Calendar 2.0//EN
METHOD:PUBLISH
X-PUBLISHED-TTL:P3D
REFRESH-INTERVAL:P3D
CALSCALE:GREGORIAN
BEGIN:VEVENT
DTSTART:20100605T160000Z
DTEND:20100605T170000Z
X-MICROSOFT-CDO-ALLDAYEVENT:FALSE
SUMMARY:Berkeley Finner Foods Ribbon Cutting
DESCRIPTION:Join Mayor Jeff Schielke as we officially welcome Berkeley Finer Foods to Batavia with a ribbon cutting!
X-ALT-DESC;FMTTYPE=text/html:<P class=MsoNormal style="MARGIN: 0in 0in 0pt\; TEXT-ALIGN: center" align=left>Join Mayor Jeff Schielke&nbsp\;as we officially&nbsp\;welcome&nbsp\;Berkeley Finer Foods&nbsp\;to Batavia with a ribbon cutting!</P>
LOCATION:Berkeley Finer Foods
UID:e.1902.1736
SEQUENCE:3
DTSTAMP:20260420T112719Z
URL:https://business.bataviachamber.org/events/details/berkeley-finner-foods-ribbon-cutting-06-05-2010-1736
END:VEVENT

END:VCALENDAR
