BEGIN:VCALENDAR
VERSION:2.0
PRODID:-//ChamberMaster//Event Calendar 2.0//EN
METHOD:PUBLISH
X-PUBLISHED-TTL:P3D
REFRESH-INTERVAL:P3D
CALSCALE:GREGORIAN
BEGIN:VEVENT
DTSTART:20170513T000000Z
DTEND:20170513T040000Z
X-MICROSOFT-CDO-ALLDAYEVENT:FALSE
SUMMARY:Be a Rockstar for Healthcare
DESCRIPTION:Tri City Health Partnership is holding our spring fundraiser and it promises to be a rockin' time! Join us as we hear live music\, bid on fun live auction items\, food and a cash bar. Are you feeling lucky? Roll the dice for a chance to win $50\,000! \n\nCasual fun for a great cause. Help those in Central Kane County continue to receive quality\, free medical and dental care. \n\nSponsorships available! Get the word out about your organization while helping TCHP. Win-win!
X-ALT-DESC;FMTTYPE=text/html:Tri City Health Partnership is holding our spring fundraiser and it promises to be a rockin&#39\; time! Join us as we hear live music\, bid on fun live auction items\, food and a cash bar. Are you feeling lucky? Roll the dice for a chance to win $50\,000!&nbsp\;<br />\nCasual fun for a great cause. Help those in Central Kane County continue to receive quality\, free medical and dental care.&nbsp\;<br />\nSponsorships available! Get the word out about your organization while helping TCHP. Win-win!
LOCATION:Pheasant Run 4051 East Main St. St. Charles\, IL 60174
UID:e.1902.6561
SEQUENCE:3
DTSTAMP:20260425T113412Z
URL:https://business.bataviachamber.org/events/details/be-a-rockstar-for-healtchare-6561
END:VEVENT

END:VCALENDAR
