BEGIN:VCALENDAR
VERSION:2.0
PRODID:-//ChamberMaster//Event Calendar 2.0//EN
METHOD:PUBLISH
X-PUBLISHED-TTL:P3D
REFRESH-INTERVAL:P3D
CALSCALE:GREGORIAN
BEGIN:VEVENT
DTSTART:20090822T050000Z
DTEND:20090822T050000Z
X-MICROSOFT-CDO-ALLDAYEVENT:FALSE
SUMMARY:BBQ Porkchop & Chicken Dinner
DESCRIPTION:Barbeque Porkchop & Chicken Dinner to benefit Elderday Center.\nWalk ins welcome\nEat In or Carryout\nDinner includes baked beans\, coleslaw\, roll\, butter\, applesauce\, coffee or lemonade.\nTickets $10for 2 porkchops or 1 porchop and 1/4 chicken or $5 for hot dog dinner.
X-ALT-DESC;FMTTYPE=text/html:Barbeque Porkchop & Chicken Dinner to benefit Elderday Center.\nWalk ins welcome\nEat In or Carryout\nDinner includes baked beans\, coleslaw\, roll\, butter\, applesauce\, coffee or lemonade.\nTickets $10for 2 porkchops or 1 porchop and 1/4 chicken or $5 for hot dog dinner.
LOCATION:Elderday Center
UID:e.1902.981
SEQUENCE:3
DTSTAMP:20260421T051727Z
URL:https://business.bataviachamber.org/events/details/bbq-porkchop-chicken-dinner-08-22-2009-981
END:VEVENT

END:VCALENDAR
