BEGIN:VCALENDAR
VERSION:2.0
PRODID:-//ChamberMaster//Event Calendar 2.0//EN
METHOD:PUBLISH
X-PUBLISHED-TTL:P3D
REFRESH-INTERVAL:P3D
CALSCALE:GREGORIAN
BEGIN:VEVENT
DTSTART:20091119T233000Z
DTEND:20091120T020000Z
X-MICROSOFT-CDO-ALLDAYEVENT:FALSE
SUMMARY:BATV Open House
DESCRIPTION:Plan to join us at BATV for their Open House. Come learn more about how they help the community and can help your business.
X-ALT-DESC;FMTTYPE=text/html:<DIV>Plan to join us at BATV for their Open House. Come learn more about how they help the community and can help your business.</DIV>
LOCATION:Batavia Access Television - BATV
UID:e.1902.1220
SEQUENCE:3
DTSTAMP:20260420T231641Z
URL:https://business.bataviachamber.org/events/details/batv-open-house-11-19-2009-1220
END:VEVENT

END:VCALENDAR
