BEGIN:VCALENDAR
VERSION:2.0
PRODID:-//ChamberMaster//Event Calendar 2.0//EN
METHOD:PUBLISH
X-PUBLISHED-TTL:P3D
REFRESH-INTERVAL:P3D
CALSCALE:GREGORIAN
BEGIN:VEVENT
DTSTART:20081025T140000Z
DTEND:20081025T200000Z
X-MICROSOFT-CDO-ALLDAYEVENT:FALSE
SUMMARY:BatFest
DESCRIPTION:Batavia's annual "Fright Fest" comes to downtown with trick-or-treating\, games and activities for kids of all ages.
X-ALT-DESC;FMTTYPE=text/html:<P align=left>Batavia's annual "Fright Fest" comes to downtown with trick-or-treating\, games and activities for kids of all ages.</P>
LOCATION:Downtown Batavia
UID:e.1902.1596
SEQUENCE:3
DTSTAMP:20260421T230022Z
URL:https://business.bataviachamber.org/events/details/batfest-10-25-2008-1596
END:VEVENT

END:VCALENDAR
