BEGIN:VCALENDAR
VERSION:2.0
PRODID:-//ChamberMaster//Event Calendar 2.0//EN
METHOD:PUBLISH
X-PUBLISHED-TTL:P3D
REFRESH-INTERVAL:P3D
CALSCALE:GREGORIAN
BEGIN:VEVENT
DTSTART:20091024T150000Z
DTEND:20091024T200000Z
X-MICROSOFT-CDO-ALLDAYEVENT:FALSE
SUMMARY:BatFest
DESCRIPTION:Batavia's annual "Fright Fest" comes to downtown with trick-or-treating\, games and activities for kids of all ages.
X-ALT-DESC;FMTTYPE=text/html:<P align=left>Batavia's annual "Fright Fest" comes to downtown with trick-or-treating\, games and activities for kids of all ages.</P>
LOCATION:Downtown Batavia
UID:e.1902.1622
SEQUENCE:3
DTSTAMP:20260424T211300Z
URL:https://business.bataviachamber.org/events/details/batfest-10-24-2009-1622
END:VEVENT

END:VCALENDAR
