BEGIN:VCALENDAR
VERSION:2.0
PRODID:-//ChamberMaster//Event Calendar 2.0//EN
METHOD:PUBLISH
X-PUBLISHED-TTL:P3D
REFRESH-INTERVAL:P3D
CALSCALE:GREGORIAN
BEGIN:VEVENT
DTSTART:20101023T150000Z
DTEND:20101023T200000Z
X-MICROSOFT-CDO-ALLDAYEVENT:FALSE
SUMMARY:BatFest
DESCRIPTION:Batavia's annual "Fright Fest" comes to downtown with trick-or-treating\, games and activities for kids of all ages.
X-ALT-DESC;FMTTYPE=text/html:<P align=left><FONT color=#800000 size=5><STRONG><EM>Batavia's annual "Fright Fest" comes to downtown with trick-or-treating\, games and activities for kids of all ages.</EM></STRONG></FONT></P>
LOCATION:Downtown Batavia
UID:e.1902.1635
SEQUENCE:3
DTSTAMP:20260423T235804Z
URL:https://business.bataviachamber.org/events/details/batfest-10-23-2010-1635
END:VEVENT

END:VCALENDAR
