BEGIN:VCALENDAR
VERSION:2.0
PRODID:-//ChamberMaster//Event Calendar 2.0//EN
METHOD:PUBLISH
X-PUBLISHED-TTL:P3D
REFRESH-INTERVAL:P3D
CALSCALE:GREGORIAN
BEGIN:VEVENT
DTSTART;VALUE=DATE:20081108
DTEND;VALUE=DATE:20081109
TRANSP:TRANSPARENT
X-MICROSOFT-CDO-ALLDAYEVENT:TRUE
SUMMARY:Batavia Women's Club Lucnheon and Fashion Show
DESCRIPTION:The Batavia Woman’s Club is hosting a luncheon and fashion show to benefit the local domestic violence shelter\, Mutual Ground\, as well as promoting awareness and prevention of domestic violence. The fashion show will take place on Nov. 8\, at the Eagle Brook Country Club. Tickets are $40. For more information visit bataviawomansclub.org or call 630-482-2348.
X-ALT-DESC;FMTTYPE=text/html:<P align=left>The Batavia Woman’s Club is hosting a luncheon and fashion show to benefit the local domestic violence shelter\, Mutual Ground\, as well as promoting awareness and prevention of domestic violence. The fashion show will take place on Nov. 8\, at the Eagle Brook Country Club. Tickets are $40. For more information visit <A href="http://www.bataviawomansclub.org" target=_blank>bataviawomansclub.org</A> or call 630-482-2348. </P><DIV>&nbsp\;</DIV>
LOCATION:Eagle Brook Country Club
UID:e.1902.1605
SEQUENCE:3
DTSTAMP:20260421T212127Z
URL:https://business.bataviachamber.org/events/details/batavia-women-s-club-lucnheon-and-fashion-show-11-08-2008-1605
END:VEVENT

END:VCALENDAR
