BEGIN:VCALENDAR
VERSION:2.0
PRODID:-//ChamberMaster//Event Calendar 2.0//EN
METHOD:PUBLISH
X-PUBLISHED-TTL:P3D
REFRESH-INTERVAL:P3D
CALSCALE:GREGORIAN
BEGIN:VEVENT
DTSTART:20090528T220000Z
DTEND:20090529T000000Z
X-MICROSOFT-CDO-ALLDAYEVENT:FALSE
SUMMARY:Batavia Women In Business ''Spring Fling'' After Hours
DESCRIPTION:On January 15\, Batavia Women In Business had their very first After Hours Networking event and it was a huge success! On May 28\, Mill Creek will host the second. Please plan to join us from 5:00 p.m. until about 7:00 p.m. More information will be forthcoming...so stay tuned!
X-ALT-DESC;FMTTYPE=text/html:<P align=left><FONT size=4><FONT color=#0000ff>On January 15\, Batavia Women In Business had their very first After Hours Networking event and it was a huge success! On May 28\, Mill Creek will host the second. Please plan to join us from 5:00 p.m. until about 7:00 p.m. More information will be forthcoming...so stay tuned!</FONT></FONT></P><P align=center><FONT color=#0000ff></P></FONT>
LOCATION:Mill Creek Golf Club
UID:e.1902.1216
SEQUENCE:3
DTSTAMP:20260421T104220Z
URL:https://business.bataviachamber.org/events/details/batavia-women-in-business-spring-fling-after-hours-05-28-2009-1216
END:VEVENT

END:VCALENDAR
