BEGIN:VCALENDAR
VERSION:2.0
PRODID:-//ChamberMaster//Event Calendar 2.0//EN
METHOD:PUBLISH
X-PUBLISHED-TTL:P3D
REFRESH-INTERVAL:P3D
CALSCALE:GREGORIAN
BEGIN:VEVENT
DTSTART:20081007T220000Z
DTEND:20081008T000000Z
X-MICROSOFT-CDO-ALLDAYEVENT:FALSE
SUMMARY:Batavia Township Open House
DESCRIPTION:Batavia Township welcomes all residents to see their new offices and facilities.
X-ALT-DESC;FMTTYPE=text/html:Batavia Township welcomes all residents to see their new offices and facilities.
LOCATION:Batavia Township
UID:e.1902.1567
SEQUENCE:3
DTSTAMP:20260421T230226Z
URL:https://business.bataviachamber.org/events/details/batavia-township-open-house-10-07-2008-1567
END:VEVENT

END:VCALENDAR
