BEGIN:VCALENDAR
VERSION:2.0
PRODID:-//ChamberMaster//Event Calendar 2.0//EN
METHOD:PUBLISH
X-PUBLISHED-TTL:P3D
REFRESH-INTERVAL:P3D
CALSCALE:GREGORIAN
BEGIN:VEVENT
DTSTART:20090614T050000Z
DTEND:20090614T050000Z
X-MICROSOFT-CDO-ALLDAYEVENT:FALSE
SUMMARY:Batavia Sprint Distance Triathlon & Duathlon
DESCRIPTION:400 meter swim\n14.7 mile bike\n4.1 mile run\nEvent supports various local charities including Batavia MainStreet and Batavia Food Pantry
X-ALT-DESC;FMTTYPE=text/html:400 meter swim\n14.7 mile bike\n4.1 mile run\nEvent supports various local charities including Batavia MainStreet and Batavia Food Pantry
LOCATION:
UID:e.1902.824
SEQUENCE:3
DTSTAMP:20260421T090436Z
URL:https://business.bataviachamber.org/events/details/batavia-sprint-distance-triathlon-duathlon-06-14-2009-824
END:VEVENT

END:VCALENDAR
