BEGIN:VCALENDAR
VERSION:2.0
PRODID:-//ChamberMaster//Event Calendar 2.0//EN
METHOD:PUBLISH
X-PUBLISHED-TTL:P3D
REFRESH-INTERVAL:P3D
CALSCALE:GREGORIAN
BEGIN:VEVENT
DTSTART:20180620T170000Z
DTEND:20180620T200000Z
X-MICROSOFT-CDO-ALLDAYEVENT:FALSE
SUMMARY:Batavia Senior Citizen’s Club Meeting & Lunch
DESCRIPTION:Join us this month for lunch\, entertainment\, and social time. \n\n11: 15 am -12:00 noon Blood Pressure Check courtesy of Heritage Woods of Batavia\n\n12:00 noon   Italian beef with coleslaw and chips.  Lemon bars for dessert.\n\nEntertainment:          Dollar Bingo
X-ALT-DESC;FMTTYPE=text/html:<span style="font-family:arial\,sans-serif"><span style="font-size:12.0pt">Join us this month for lunch\, entertainment\, and social time. </span></span><br />\n<span style="font-family:arial\,sans-serif"><span style="font-size:12.0pt">11: 15 am -12:00 noon Blood Pressure Check courtesy of Heritage Woods of Batavia</span></span><br />\n<span style="font-family:arial\,sans-serif"><span style="font-size:12.0pt">12:00 noon &ndash\; Italian beef with coleslaw and chips.&nbsp\; Lemon bars for dessert.</span></span><br />\n<span style="font-family:arial\,sans-serif"><span style="font-size:12.0pt">Entertainment:&nbsp\; &nbsp\;&nbsp\;&nbsp\;&nbsp\;&nbsp\;&nbsp\;&nbsp\; Dollar Bingo</span></span>
LOCATION:Shannon Hall at 14 N. Van Buren Street
UID:e.1902.7916
SEQUENCE:3
DTSTAMP:20260424T141719Z
URL:https://business.bataviachamber.org/events/details/batavia-senior-citizen-s-club-meeting-lunch-7916
END:VEVENT

END:VCALENDAR
