BEGIN:VCALENDAR
VERSION:2.0
PRODID:-//ChamberMaster//Event Calendar 2.0//EN
METHOD:PUBLISH
X-PUBLISHED-TTL:P3D
REFRESH-INTERVAL:P3D
CALSCALE:GREGORIAN
BEGIN:VEVENT
DTSTART:20180718T170000Z
DTEND:20180718T200000Z
X-MICROSOFT-CDO-ALLDAYEVENT:FALSE
SUMMARY:Batavia Senior Citizen’s Club Meeting & Lunch
DESCRIPTION:Join us this month for lunch\, entertainment\, and social time. \n\n11: 15 am       Blood Pressure Check courtesy of Heritage Woods of Batavia\n\n12:00 pm        Bring your own brown bag lunch.\n\n12:30 pm        Ice Cream Social\, celebrate National Ice Cream Month by making your own sundaes!  Ice cream\, toppings\, strawberries and bananas\, wafer cookies\, whipped cream!  Let's go nuts and do the splits!  Sponsored by John Faust\n\nEntertainment:          Yankee Doodle America by Penny Alexander
X-ALT-DESC;FMTTYPE=text/html:<span style="font-family:arial\,sans-serif"><span style="font-size:12.0pt">Join us this month for lunch\, entertainment\, and social time. </span></span><br />\n<span style="font-family:arial\,sans-serif"><span style="font-size:12.0pt">11: 15 am&nbsp\;&nbsp\;&nbsp\;&nbsp\;&nbsp\;&nbsp\; Blood Pressure Check courtesy of Heritage Woods of Batavia</span></span><br />\n<span style="font-family:arial\,sans-serif"><span style="font-size:12.0pt">12:00 pm&nbsp\;&nbsp\;&nbsp\;&nbsp\;&nbsp\;&nbsp\;&nbsp\; Bring your own brown bag lunch.</span></span><br />\n<span style="font-family:arial\,sans-serif"><span style="font-size:12.0pt">12:30 pm &nbsp\;&nbsp\;&nbsp\;&nbsp\;&nbsp\;&nbsp\; Ice Cream Social\, celebrate National Ice Cream Month by making your own sundaes!&nbsp\; Ice cream\, toppings\, strawberries and bananas\, wafer cookies\, whipped cream!&nbsp\; Let&rsquo\;s go nuts and do the splits!&nbsp\; <em>Sponsored by John Faust</em></span></span><br />\n<span style="font-family:arial\,sans-serif"><span style="font-size:12.0pt">Entertainment: &nbsp\;&nbsp\;&nbsp\;&nbsp\;&nbsp\;&nbsp\;&nbsp\;&nbsp\; Yankee Doodle America by Penny Alexander</span></span>
LOCATION:Shannon Hall at 14 N. Van Buren Street
UID:e.1902.7917
SEQUENCE:3
DTSTAMP:20260424T114553Z
URL:https://business.bataviachamber.org/events/details/batavia-senior-citizen-s-club-meeting-lunch-07-18-2018-7917
END:VEVENT

END:VCALENDAR
