BEGIN:VCALENDAR
VERSION:2.0
PRODID:-//ChamberMaster//Event Calendar 2.0//EN
METHOD:PUBLISH
X-PUBLISHED-TTL:P3D
REFRESH-INTERVAL:P3D
CALSCALE:GREGORIAN
BEGIN:VEVENT
DTSTART;VALUE=DATE:20080829
DTEND;VALUE=DATE:20080901
TRANSP:TRANSPARENT
X-MICROSOFT-CDO-ALLDAYEVENT:TRUE
SUMMARY:Batavia's 175th Birthday Celebration
DESCRIPTION:Come join the "City of Energy" as we celebrate the 175th anniversary of Christopher Payne's settling of Batavia in 1833. Three days of activites are planned throughout Batavia culminating with a fireworks display on Sunday evening to mark the official opening of the new Donovan Bridge on Wison Street.
X-ALT-DESC;FMTTYPE=text/html:<FONT color=#0000ff size=4>Come join the "City of Energy" as we celebrate the 175th anniversary of Christopher Payne's settling of Batavia in 1833. Three days of activites are planned throughout Batavia culminating with a fireworks display on Sunday evening to mark the official opening of the new Donovan Bridge on Wison Street.</FONT>
LOCATION:Downtown Batavia - Various Locations
UID:e.1902.1572
SEQUENCE:3
DTSTAMP:20260422T025119Z
URL:https://business.bataviachamber.org/events/details/batavia-s-175th-birthday-celebration-08-29-2008-1572
END:VEVENT

END:VCALENDAR
