BEGIN:VCALENDAR
VERSION:2.0
PRODID:-//ChamberMaster//Event Calendar 2.0//EN
METHOD:PUBLISH
X-PUBLISHED-TTL:P3D
REFRESH-INTERVAL:P3D
CALSCALE:GREGORIAN
BEGIN:VEVENT
DTSTART:20090520T220000Z
DTEND:20090521T000000Z
X-MICROSOFT-CDO-ALLDAYEVENT:FALSE
SUMMARY:Batavia Rehabilitation ''Senior Care Expo'' and BAH
DESCRIPTION:Join us at Batavia Rehabilitation & Healthcare Center for a "Senior Care Expo" and Business After Hours. Teri Rebstock and her staff are assembling a wide array of providers for those who have provided for us. Come for some cocktails and refreshments\, meet some of your fellow Chamber members and find out what options you have for your loved ones. Delnor Senior Living - Assisted LivingHealthtrends - Home Health AgencyMorning Star - Non-medical Home AssistanceSharratt Chiropractic - Wellness ProvidersBrighstar Healthcare - Home Health CareMoss Funeral HomeProvena HospiceSouth Elgin Rehab - Skilled Senior LivingRehab Care-therapy - Inpatient and Outpatient TherapySenior Services - Patient Advocacy
X-ALT-DESC;FMTTYPE=text/html:<FONT color=#0000ff size=5><STRONG><FONT color=#ff0000><DIV align=left><FONT color=#0000ff size=4>Join us at Batavia Rehabilitation &amp\; Healthcare Center&nbsp\;for a "Senior Care&nbsp\;Expo" and Business After Hours. Teri Rebstock and her staff are assembling a wide array of providers for those who have provided for us. Come for some cocktails and refreshments\, meet some of your fellow Chamber members and find out what options you have for your loved ones.</FONT></DIV><DIV align=left><FONT color=#0000ff size=4></FONT>&nbsp\;</DIV><DIV align=left><FONT color=#0000ff size=4><FONT color=#000080>Delnor Senior Living</FONT> - Assisted Living</FONT></DIV><DIV align=left><FONT color=#0000ff size=4><FONT color=#000080>Healthtrends</FONT> - Home Health Agency</FONT></DIV><DIV align=left><FONT color=#0000ff size=4><FONT color=#000080>Morning Star</FONT> - Non-medical Home Assistance</FONT></DIV><DIV align=left><FONT color=#0000ff size=4><FONT color=#000080>Sharratt Chiropractic</FONT> - Wellness Providers</FONT></DIV><DIV align=left><FONT color=#0000ff size=4><FONT color=#000080>Brighstar Healthcare</FONT> - Home Health Care</FONT></DIV><DIV align=left><FONT color=#000080 size=4>Moss Funeral Home</FONT></DIV><DIV align=left><FONT color=#000080 size=4>Provena Hospice</FONT></DIV><DIV align=left><FONT color=#0000ff size=4><FONT color=#000080>South Elgin Rehab</FONT> - Skilled Senior Living</FONT></DIV><DIV align=left><FONT color=#0000ff size=4><FONT color=#000080>Rehab Care-therapy</FONT> - Inpatient&nbsp\;and Outpatient Therapy</FONT></DIV><DIV align=left><FONT color=#0000ff size=4><FONT color=#000080>Senior Services</FONT> - Patient Advocacy</FONT></DIV></FONT></STRONG></FONT><FONT color=#0000ff></FONT>
LOCATION:Batavia Rehabilitation & Health Care Center
UID:e.1902.1215
SEQUENCE:3
DTSTAMP:20260421T104351Z
URL:https://business.bataviachamber.org/events/details/batavia-rehabilitation-senior-care-expo-and-bah-05-20-2009-1215
END:VEVENT

END:VCALENDAR
