BEGIN:VCALENDAR
VERSION:2.0
PRODID:-//ChamberMaster//Event Calendar 2.0//EN
METHOD:PUBLISH
X-PUBLISHED-TTL:P3D
REFRESH-INTERVAL:P3D
CALSCALE:GREGORIAN
BEGIN:VEVENT
DTSTART:20090717T050000Z
DTEND:20090719T050000Z
X-MICROSOFT-CDO-ALLDAYEVENT:FALSE
SUMMARY:Batavia Quilt & Textile Show
DESCRIPTION:Friday July 17 - 1-6\nSaturday July 18 10-5\nSunday July 19 10-5\nVendor Hall and over 120 quilts ondisplay.  $6   $5 seniors
X-ALT-DESC;FMTTYPE=text/html:Friday July 17 - 1-6\nSaturday July 18 10-5\nSunday July 19 10-5\nVendor Hall and over 120 quilts ondisplay.  $6   $5 seniors
LOCATION:Batavia Eastside Community Center
UID:e.1902.944
SEQUENCE:3
DTSTAMP:20260421T070852Z
URL:https://business.bataviachamber.org/events/details/batavia-quilt-textile-show-07-17-2009-944
END:VEVENT

END:VCALENDAR
