BEGIN:VCALENDAR
VERSION:2.0
PRODID:-//ChamberMaster//Event Calendar 2.0//EN
METHOD:PUBLISH
X-PUBLISHED-TTL:P3D
REFRESH-INTERVAL:P3D
CALSCALE:GREGORIAN
BEGIN:VEVENT
DTSTART:20110304T060000Z
DTEND:20110304T060000Z
X-MICROSOFT-CDO-ALLDAYEVENT:FALSE
SUMMARY:Batavia Music Buffs 2nd Annual Night of Jazz
DESCRIPTION:Please join us for our 2nd Annual Night of Jazz.   This event is a night  of dinner\, dancing\, and celebration of Jazz music in a Mardi Gras-themed setting. The evening begins with a banquet dinner which will be followed by electrifying performances from each of the Jazz ensembles in Batavia High School’s extracurricular music program.   A silent auction and an entertaining live-auction will also be featured during the event. Tickets are $25 for adults / $15 for students\, and they must be purchased in advance.  Tickets will not be available at the door.  Tickets can be purchased on the BataviaMusic Buffs website www.bataviamusicbuffs.org.  Batavia Music Buffs is a volunteer organization dedicated to the betterment and financial support of Batavia’s scholastic music programs.  If you wouldlike to advertise at\, sponsor\, or donate auction items for this Night of Jazz event please contact Batavia Music Buffs at bataviamusicbuffs@gmail.com .
X-ALT-DESC;FMTTYPE=text/html:Please join us for our 2nd Annual Night of Jazz.   This event is a night  of dinner\, dancing\, and celebration of Jazz music in a Mardi Gras-themed setting. The evening begins with a banquet dinner which will be followed by electrifying performances from each of the Jazz ensembles in Batavia High School’s extracurricular music program.   A silent auction and an entertaining live-auction will also be featured during the event. Tickets are $25 for adults / $15 for students\, and they must be purchased in advance.  Tickets will not be available at the door.  Tickets can be purchased on the BataviaMusic Buffs website www.bataviamusicbuffs.org.  Batavia Music Buffs is a volunteer organization dedicated to the betterment and financial support of Batavia’s scholastic music programs.  If you wouldlike to advertise at\, sponsor\, or donate auction items for this Night of Jazz event please contact Batavia Music Buffs at bataviamusicbuffs@gmail.com .\n\n
LOCATION:Pipefitters Banquet Hall
UID:e.1902.140
SEQUENCE:3
DTSTAMP:20260419T193735Z
URL:https://business.bataviachamber.org/events/details/batavia-music-buffs-2nd-annual-night-of-jazz-03-04-2011-140
END:VEVENT

END:VCALENDAR
