BEGIN:VCALENDAR
VERSION:2.0
PRODID:-//ChamberMaster//Event Calendar 2.0//EN
METHOD:PUBLISH
X-PUBLISHED-TTL:P3D
REFRESH-INTERVAL:P3D
CALSCALE:GREGORIAN
BEGIN:VEVENT
DTSTART:20081018T140000Z
DTEND:20081018T200000Z
X-MICROSOFT-CDO-ALLDAYEVENT:FALSE
SUMMARY:Batavia Mother's Club Autumn Arts & Crafts Show
DESCRIPTION:The Batavia Mothers' Club FoundationAnnual Autumn Arts and Craft ShowThe Autumn Arts & Crafts Show is the Batavia Mothers' Club Foundation's largest fundraiser. Proceeds go to organizations dedicated to improving the quality of life for families in need in our community.  juried booths of crafters offering creative handmade items including paintings\, photography\, drawings\, pet accessories\, jewelry\, holiday items\, dolls and more\;   coffee\, soft drinks\, snacks and popcorn for sale\; bake sale featuring Batavia's finest homemade goodies made by Batavia moms\; raffle drawings.  For more information go to www.bataviamothersclub.org or call (630) 748-1501.
X-ALT-DESC;FMTTYPE=text/html:<DIV style="FONT-SIZE: 10pt\; FONT-FAMILY: bookman old style\, new york\, times\, serif" align=center><FONT face=Arial size=3>The Batavia Mothers' Club Foundation</FONT></DIV><DIV style="FONT-SIZE: 10pt\; FONT-FAMILY: bookman old style\, new york\, times\, serif" align=center><FONT face=Arial size=3>Annual Autumn Arts and Craft Show</FONT></DIV><P class=MsoNormal style="LINE-HEIGHT: normal" align=left>The Autumn Arts &amp\; Crafts Show is the Batavia Mothers' Club Foundation's largest fundraiser. Proceeds go to organizations dedicated to improving the quality of life for families in need in our community.<SPAN style="mso-spacerun: yes">&nbsp\;&nbsp\;</SPAN><SPAN class=Apple-style-span style="FONT-FAMILY: " Times New Roman?\; font-size: 19px\; font-weight: bold\;?></SPAN></P><FONT Times New Roman?><SPAN class=Apple-style-span style="FONT-SIZE: 19px"><UL><LI><DIV align=left><FONT size=3>juried booths of crafters offering creative handmade items including paintings\, photography\, drawings\, pet accessories\, jewelry\, holiday items\, dolls and more\;<SPAN style="mso-spacerun: yes">&nbsp\;&nbsp\;</SPAN> </FONT></DIV><LI><DIV align=left><FONT size=3><SPAN style="mso-spacerun: yes">coffee\, soft drinks\, snacks and popcorn for sale\;</SPAN> </FONT></DIV><LI><DIV align=left><FONT size=3><SPAN style="mso-spacerun: yes">bake sale featuring Batavia's finest homemade goodies made by Batavia moms\;</SPAN> </FONT></DIV><LI><DIV align=left><SPAN style="mso-spacerun: yes"><FONT size=3>raffle drawings.&nbsp\;&nbsp\;</FONT></SPAN></DIV></LI></UL><SPAN style="mso-spacerun: yes"><P class=MsoNormal style="LINE-HEIGHT: normal"><FONT size=3>For more information go to&nbsp\;</FONT><A href="http://www.bataviamothersclub.org/"><FONT size=3>www.bataviamothersclub.org</FONT></A><FONT size=3> or call (630) 748-1501.<SPAN style="mso-spacerun: yes">&nbsp\; </SPAN></FONT></P></SPAN></SPAN></FONT>
LOCATION:Mooseheart Fieldhouse\, Route 31
UID:e.1902.1371
SEQUENCE:3
DTSTAMP:20260421T230908Z
URL:https://business.bataviachamber.org/events/details/batavia-mother-s-club-autumn-arts-crafts-show-10-18-2008-1371
END:VEVENT

END:VCALENDAR
