BEGIN:VCALENDAR
VERSION:2.0
PRODID:-//ChamberMaster//Event Calendar 2.0//EN
METHOD:PUBLISH
X-PUBLISHED-TTL:P3D
REFRESH-INTERVAL:P3D
CALSCALE:GREGORIAN
BEGIN:VEVENT
DTSTART:20100926T050000Z
DTEND:20100926T050000Z
X-MICROSOFT-CDO-ALLDAYEVENT:FALSE
SUMMARY:Batavia House Walk
DESCRIPTION:This year's event features five distinctive Batavia homes and a downtown loft.  A tea will accompanythe event along with incentives from area businesses.
X-ALT-DESC;FMTTYPE=text/html:This year's event features five distinctive Batavia homes and a downtown loft.  A tea will accompanythe event along with incentives from area businesses.
LOCATION:
UID:e.1902.7
SEQUENCE:3
DTSTAMP:20260420T060637Z
URL:https://business.bataviachamber.org/events/details/batavia-house-walk-09-26-2010-7
END:VEVENT

END:VCALENDAR
