BEGIN:VCALENDAR
VERSION:2.0
PRODID:-//ChamberMaster//Event Calendar 2.0//EN
METHOD:PUBLISH
X-PUBLISHED-TTL:P3D
REFRESH-INTERVAL:P3D
CALSCALE:GREGORIAN
BEGIN:VEVENT
DTSTART:20110925T050000Z
DTEND:20110925T050000Z
X-MICROSOFT-CDO-ALLDAYEVENT:FALSE
SUMMARY:Batavia House Walk
DESCRIPTION:Featured historic homes in Batavia\n\n$18 in advance\, $20 day-of\n\nPurchase tickets ahead by calling 630-761-3528. Visit the Wilson Street Bridge table set-up on September 25th to purchase tickets the day-of.\nRefreshments provided at any time during the House Walk at the Tea (at Water Street Studios of Batavia)\n\nPresented by the Batavia MainStreet
X-ALT-DESC;FMTTYPE=text/html:Featured historic homes in Batavia\n\n$18 in advance\, $20 day-of\n\nPurchase tickets ahead by calling 630-761-3528. Visit the Wilson Street Bridge table set-up on September 25th to purchase tickets the day-of.\nRefreshments provided at any time during the House Walk at the Tea (at Water Street Studios of Batavia)\n\nPresented by the Batavia MainStreet
LOCATION:
UID:e.1902.389
SEQUENCE:3
DTSTAMP:20260423T071135Z
URL:https://business.bataviachamber.org/events/details/batavia-house-walk-09-25-2011-389
END:VEVENT

END:VCALENDAR
