BEGIN:VCALENDAR
VERSION:2.0
PRODID:-//ChamberMaster//Event Calendar 2.0//EN
METHOD:PUBLISH
X-PUBLISHED-TTL:P3D
REFRESH-INTERVAL:P3D
CALSCALE:GREGORIAN
BEGIN:VEVENT
DTSTART:20100223T231500Z
DTEND:20100224T003000Z
X-MICROSOFT-CDO-ALLDAYEVENT:FALSE
SUMMARY:Batavia High School Music Wing Open House
DESCRIPTION:Here is your chance to see the magnificent new Music Wing at the Batavia High School. Join us on Tuesday\, February 23 for an open house from 5:15 p.m. to 6:30 p.m. with a ribbon cutting at 6:15 p.m. Come celebrate the newest addition to--and second partial completion of--the multi-year High School renovation.
X-ALT-DESC;FMTTYPE=text/html:<P align=left>Here is your chance to see the magnificent new Music Wing at&nbsp\;the Batavia High School. Join us on Tuesday\, February 23 for an open house from 5:15 p.m. to 6:30 p.m. with a ribbon cutting at 6:15 p.m. </P><P align=left>Come celebrate the newest addition to--and second partial completion of--the multi-year High School renovation.</P>
LOCATION:Batavia High School
UID:e.1902.1731
SEQUENCE:3
DTSTAMP:20260420T175537Z
URL:https://business.bataviachamber.org/events/details/batavia-high-school-music-wing-open-house-02-23-2010-1731
END:VEVENT

END:VCALENDAR
