BEGIN:VCALENDAR
VERSION:2.0
PRODID:-//ChamberMaster//Event Calendar 2.0//EN
METHOD:PUBLISH
X-PUBLISHED-TTL:P3D
REFRESH-INTERVAL:P3D
CALSCALE:GREGORIAN
BEGIN:VEVENT
DTSTART:20260502T130000Z
DTEND:20260502T200000Z
X-MICROSOFT-CDO-ALLDAYEVENT:FALSE
SUMMARY:Batavia Hardwoods - Spring Open House
DESCRIPTION:Batavia Hardwoods is celebrating their two-year anniversary with a spring open house.  Please join the owners\, Doug\, Steve\, John and Kersten on Saturday\, May 2\, 2026 between the hours of 8AM and 3PM at their store located at 330 McKee St. in Batavia\, IL. 60510.\n\n\n\nThe day's festivities are family friendly and\, weather permitting\, will include demonstrations by the Batavia Woodcarvers Club and the Windy City and Chicago Woodturning Clubs.  Food and beverages will be served during lunchtime until the food runs out!\n\n\n\nTo thank the community and our customers\, Batavia Hardwoods is offering special sales on the day of the celebration. There will be 20% discounts on woodturning stock and 10% discounts on flat woodworking stock and a 10% discount on our Gallery of finished products (bowls\, charcuterie boards\, vases\, cutting boards and more).\n\n \n\nBATAVIA HARDWOODS   330 MCKEE ST. BATAVIA\, IL 60510\n\nPhone: 630-761-5907\n\nEmail: bataviahardwoods@gmail.com\n\nWebsite: www.BataviaHardwoods.com
X-ALT-DESC;FMTTYPE=text/html:Batavia Hardwoods is celebrating their two-year anniversary with a spring open house.&nbsp\; Please join the owners\, Doug\, Steve\, John and Kersten on Saturday\, May 2\, 2026 between the hours of 8AM and 3PM at their store located at 330 McKee St. in Batavia\, IL. 60510.<br />\n<br />\nThe day&rsquo\;s festivities are family friendly and\, weather permitting\, will include demonstrations by the Batavia Woodcarvers Club and the Windy City and Chicago Woodturning Clubs.&nbsp\; Food and beverages will be served during lunchtime until the food runs out!<br />\n<br />\nTo thank the community and our customers\, Batavia Hardwoods is offering special sales on the day of the celebration. There will be 20% discounts on woodturning stock and 10% discounts on flat woodworking stock and a 10% discount on our Gallery of finished products (bowls\, charcuterie boards\, vases\, cutting boards and more).<br />\n&nbsp\;<br />\n<span style="color:black"><span style="font-size:10.0pt">BATAVIA HARDWOODS &ndash\; 330 MCKEE ST. BATAVIA\, IL 60510<br />\nPhone: 630-761-5907</span></span><br />\n<span style="color:black"><span style="font-size:10.0pt">Email:&nbsp\;</span></span><a href="mailto:bataviahardwoods@gmail.com"><span style="font-size:10.0pt">bataviahardwoods@gmail.com</span></a><br />\n<span style="color:black"><span style="font-size:10.0pt">Website:&nbsp\;</span></span><a href="http://www.bataviahardwoods.com/"><span style="font-size:10.0pt">www.BataviaHardwoods.com</span></a>
LOCATION:Batavia Hardwoods 330 McKee St. Batavia\, IL 60510
UID:e.1902.31809
SEQUENCE:3
DTSTAMP:20260421T112842Z
URL:https://business.bataviachamber.org/events/details/batavia-hardwoods-spring-open-house-31809
END:VEVENT

END:VCALENDAR
