BEGIN:VCALENDAR
VERSION:2.0
PRODID:-//ChamberMaster//Event Calendar 2.0//EN
METHOD:PUBLISH
X-PUBLISHED-TTL:P3D
REFRESH-INTERVAL:P3D
CALSCALE:GREGORIAN
BEGIN:VEVENT
DTSTART:20170312T190000Z
DTEND:20170312T210000Z
X-MICROSOFT-CDO-ALLDAYEVENT:FALSE
SUMMARY:Batavia Depot Expansion Kick-off Celebration
DESCRIPTION:The Batavia Depot Expansion Committee hosts its "History Happens Here!" Kick-off at 2 p.m.\, March 12 at the Batavia Public Library. Sponsored by the Batavia Historical Society\, the event celebrates the past\, present and future for the Depot Museum. The public can learn about the project and other new programs\, including the new History Heroes program for kids at the Depot Museum. For more information about the project and the Batavia Historical Society\, log on to www.bataviahistoricalsociety.org. To donate\, send a check to the Batavia Historical Society Expansion Project\, P.O. Box 14\, Batavia\, IL 60510.
X-ALT-DESC;FMTTYPE=text/html:The Batavia Depot Expansion Committee hosts its &quot\;History Happens Here!&quot\; Kick-off at 2 p.m.\, March 12 at the Batavia Public Library. Sponsored by the Batavia Historical Society\, the event celebrates the past\, present and future for the Depot Museum. The public can learn about the project and other new programs\, including the new History Heroes program for kids at the Depot Museum. For more information about the project and the Batavia Historical Society\, log on to www.bataviahistoricalsociety.org. To donate\, send a check to the Batavia Historical Society Expansion Project\, P.O. Box 14\, Batavia\, IL 60510.
LOCATION:Batavia Public Library 10 S. Batavia Avenue Batavia
UID:e.1902.6573
SEQUENCE:3
DTSTAMP:20260425T130429Z
URL:https://business.bataviachamber.org/events/details/batavia-depot-expansion-kick-off-celebration-6573
END:VEVENT

END:VCALENDAR
