BEGIN:VCALENDAR
VERSION:2.0
PRODID:-//ChamberMaster//Event Calendar 2.0//EN
METHOD:PUBLISH
X-PUBLISHED-TTL:P3D
REFRESH-INTERVAL:P3D
CALSCALE:GREGORIAN
BEGIN:VEVENT
DTSTART:20101121T060000Z
DTEND:20101121T060000Z
X-MICROSOFT-CDO-ALLDAYEVENT:FALSE
SUMMARY:Batavia Community Ecumenical Thanksgiving Service
DESCRIPTION:The Batavia Community Ecumenical Thanksgiving Service will be held on Sunday\, November 21\, at 7:00 p.m. at Calvary Episcopal Church. All are welcome. The Reverend Steven Srock\, senior pastor of Bethany Lutheran will preach\, while The Very Reverend Michael D. Rasicci\, Rector of Calvary Episcopal Church\, will lead the service\, joined by other Batavia clergy. Calvary's Adult Choir\, accompanied by Interim Organist Rhonda Zacharias\, will provide special music. The evening’s offering will go to the Batavia Ministerial Association\, evenly split between its general and emergency funds. \n\nFollowing the service\, worshipers are invited to stay for coffee and pumpkin pie. Calvary is located at 222 S.Batavia Avenue\, on the corner of Route 31 and Main Street. For further information\, call 630-879-3378.
X-ALT-DESC;FMTTYPE=text/html:The Batavia Community Ecumenical Thanksgiving Service will be held on Sunday\, November 21\, at 7:00 p.m. at Calvary Episcopal Church. All are welcome. The Reverend Steven Srock\, senior pastor of Bethany Lutheran will preach\, while The Very Reverend Michael D. Rasicci\, Rector of Calvary Episcopal Church\, will lead the service\, joined by other Batavia clergy. Calvary's Adult Choir\, accompanied by Interim Organist Rhonda Zacharias\, will provide special music. The evening’s offering will go to the Batavia Ministerial Association\, evenly split between its general and emergency funds. \n\nFollowing the service\, worshipers are invited to stay for coffee and pumpkin pie. Calvary is located at 222 S.Batavia Avenue\, on the corner of Route 31 and Main Street. For further information\, call 630-879-3378.\n
LOCATION:Calvary Episcopal Church
UID:e.1902.96
SEQUENCE:3
DTSTAMP:20260420T023734Z
URL:https://business.bataviachamber.org/events/details/batavia-community-ecumenical-thanksgiving-service-11-21-2010-96
END:VEVENT

END:VCALENDAR
