BEGIN:VCALENDAR
VERSION:2.0
PRODID:-//ChamberMaster//Event Calendar 2.0//EN
METHOD:PUBLISH
X-PUBLISHED-TTL:P3D
REFRESH-INTERVAL:P3D
CALSCALE:GREGORIAN
BEGIN:VEVENT
DTSTART:20090508T050000Z
DTEND:20090509T050000Z
X-MICROSOFT-CDO-ALLDAYEVENT:FALSE
SUMMARY:Batavia City-Wide Garage Sale
DESCRIPTION:Over 200 garage sales all over Batavia! Maps will be available on May 7 at 7/11\, Citgo\, City Hall\, BP\, and Park Disctrict
X-ALT-DESC;FMTTYPE=text/html:Over 200 garage sales all over Batavia! Maps will be available on May 7 at 7/11\, Citgo\, City Hall\, BP\, and Park Disctrict
LOCATION:
UID:e.1902.825
SEQUENCE:3
DTSTAMP:20260421T105532Z
URL:https://business.bataviachamber.org/events/details/batavia-city-wide-garage-sale-05-08-2009-825
END:VEVENT

END:VCALENDAR
