BEGIN:VCALENDAR
VERSION:2.0
PRODID:-//ChamberMaster//Event Calendar 2.0//EN
METHOD:PUBLISH
X-PUBLISHED-TTL:P3D
REFRESH-INTERVAL:P3D
CALSCALE:GREGORIAN
BEGIN:VEVENT
DTSTART:20090417T050000Z
DTEND:20090417T050000Z
X-MICROSOFT-CDO-ALLDAYEVENT:FALSE
SUMMARY:Batavia Bulldog Booster Dinner and Auction
DESCRIPTION:This much anticipated event will be held at the Gaslite Manor in Aurora and will include dinner\, dancing\, auctions and raffles.  Tickets are $50.00 per person.
X-ALT-DESC;FMTTYPE=text/html:This much anticipated event will be held at the Gaslite Manor in Aurora and will include dinner\, dancing\, auctions and raffles.  Tickets are $50.00 per person.
LOCATION:Gaslite Manor
UID:e.1902.852
SEQUENCE:3
DTSTAMP:20260421T130233Z
URL:https://business.bataviachamber.org/events/details/batavia-bulldog-booster-dinner-and-auction-04-17-2009-852
END:VEVENT

END:VCALENDAR
