BEGIN:VCALENDAR
VERSION:2.0
PRODID:-//ChamberMaster//Event Calendar 2.0//EN
METHOD:PUBLISH
X-PUBLISHED-TTL:P3D
REFRESH-INTERVAL:P3D
CALSCALE:GREGORIAN
BEGIN:VEVENT
DTSTART:20090411T180000Z
DTEND:20090411T050000Z
X-MICROSOFT-CDO-ALLDAYEVENT:FALSE
SUMMARY:Batavia Academy of Dance Grand Opening & Ribbon Cutting
DESCRIPTION:Join the festivities as we welcome the Batavia Academy of Dance and help Mayor Schielke cut their ribbon at 1:00 p.m.
X-ALT-DESC;FMTTYPE=text/html:<P align=left>Join the festivities as we welcome the Batavia Academy of Dance and&nbsp\;help Mayor Schielke cut their ribbon at 1:00 p.m.</P>
LOCATION:Batavia Academy of Dance\, Inc.
UID:e.1902.1726
SEQUENCE:3
DTSTAMP:20260421T131840Z
URL:https://business.bataviachamber.org/events/details/batavia-academy-of-dance-grand-opening-ribbon-cutting-04-11-2009-1726
END:VEVENT

END:VCALENDAR
