BEGIN:VCALENDAR
VERSION:2.0
PRODID:-//ChamberMaster//Event Calendar 2.0//EN
METHOD:PUBLISH
X-PUBLISHED-TTL:P3D
REFRESH-INTERVAL:P3D
CALSCALE:GREGORIAN
BEGIN:VEVENT
DTSTART:20080704T220000Z
DTEND:20080705T010000Z
X-MICROSOFT-CDO-ALLDAYEVENT:FALSE
SUMMARY:Batavia 4th of July Sky Concert
DESCRIPTION:Join us on the 4th of July for one of the Fox Valley's premier fireworks events.LIMITED handicapped parking will be available at the south end of Engstrom Park\, accessible ONLY at the intersection of Millview Drive and Morton Street. (Not accessible from Main Street.)
X-ALT-DESC;FMTTYPE=text/html:<P>Join us on the 4th of July for one of the Fox Valley's premier fireworks events.</P><P><FONT color=#ff0000>LIMITED handicapped parking</FONT> will be available at the south end of Engstrom Park\, accessible ONLY at the intersection of Millview Drive and Morton Street. (Not accessible from Main Street.)</P>
LOCATION:Engstrom Park
UID:e.1902.1430
SEQUENCE:3
DTSTAMP:20260422T043758Z
URL:https://business.bataviachamber.org/events/details/batavia-4th-of-july-sky-concert-07-04-2008-1430
END:VEVENT

END:VCALENDAR
