BEGIN:VCALENDAR
VERSION:2.0
PRODID:-//ChamberMaster//Event Calendar 2.0//EN
METHOD:PUBLISH
X-PUBLISHED-TTL:P3D
REFRESH-INTERVAL:P3D
CALSCALE:GREGORIAN
BEGIN:VEVENT
DTSTART:20080513T220000Z
DTEND:20080514T000000Z
X-MICROSOFT-CDO-ALLDAYEVENT:FALSE
SUMMARY:BAH - 080513 2nd Tuesday Meet & Greet
DESCRIPTION:
X-ALT-DESC;FMTTYPE=text/html:
LOCATION:Bennigan's Grill & Tavern
UID:e.1902.1202
SEQUENCE:3
DTSTAMP:20260425T235002Z
URL:https://business.bataviachamber.org/events/details/bah-080513-2nd-tuesday-meet-greet-05-13-2008-1202
END:VEVENT

END:VCALENDAR
