BEGIN:VCALENDAR
VERSION:2.0
PRODID:-//ChamberMaster//Event Calendar 2.0//EN
METHOD:PUBLISH
X-PUBLISHED-TTL:P3D
REFRESH-INTERVAL:P3D
CALSCALE:GREGORIAN
BEGIN:VEVENT
DTSTART:20080212T230000Z
DTEND:20080213T010000Z
X-MICROSOFT-CDO-ALLDAYEVENT:FALSE
SUMMARY:BAH - 080212 2nd Tuesday Meet & Greet
DESCRIPTION:
X-ALT-DESC;FMTTYPE=text/html:
LOCATION:Bennigan's Grill & Tavern
UID:e.1902.1201
SEQUENCE:3
DTSTAMP:20260426T034248Z
URL:https://business.bataviachamber.org/events/details/bah-080212-2nd-tuesday-meet-greet-02-12-2008-1201
END:VEVENT

END:VCALENDAR
