BEGIN:VCALENDAR
VERSION:2.0
PRODID:-//ChamberMaster//Event Calendar 2.0//EN
METHOD:PUBLISH
X-PUBLISHED-TTL:P3D
REFRESH-INTERVAL:P3D
CALSCALE:GREGORIAN
BEGIN:VEVENT
DTSTART:20111009T050000Z
DTEND:20111009T050000Z
X-MICROSOFT-CDO-ALLDAYEVENT:FALSE
SUMMARY:Bags For Beating Breast Cancer
DESCRIPTION:On Sunday\, October 9th\, Batavia Enterprises is hosting a Bags Tournament to raise money for the American Cancer Society's Making Strides Against Breast Cancer 5k. Registration is $25 per team of 2. ALL proceeds will go to the cause. All teams must register by Thursday\, October 6. To register\, contact Julie by email: julie@bataviaenterprises.com or by phone: (630) 879-3680.1st Place receives a 2 Night Stay at the Mountain Grand Lodge and Spa in Boyne Falls\, Michigan – Courtesy of Wine Sergi Insurance2nd Place receives a Gift Certificate to Pizzeria Neos in St. Charles
X-ALT-DESC;FMTTYPE=text/html:<P align=left>On Sunday\, October 9th\, Batavia Enterprises is hosting a Bags Tournament to raise money for the American Cancer Society's Making Strides Against Breast Cancer 5k. Registration is $25 per team of 2. ALL proceeds will go to the cause. All teams must register by Thursday\, October 6. To register\, contact Julie by email: <A href="mailto:julie@bataviaenterprises.com">julie@bataviaenterprises.com</A> or by phone: (630) 879-3680.</P><P align=left>1st Place receives a 2 Night Stay at the Mountain Grand Lodge and Spa in Boyne Falls\, Michigan – Courtesy of Wine Sergi Insurance</P><P align=left>2nd Place receives a Gift Certificate to Pizzeria Neos in St. Charles<BR></P>
LOCATION:Batavia Enterprises Parking Lot
UID:e.1902.410
SEQUENCE:3
DTSTAMP:20260423T034551Z
URL:https://business.bataviachamber.org/events/details/bags-for-beating-breast-cancer-10-09-2011-410
END:VEVENT

END:VCALENDAR
