BEGIN:VCALENDAR
VERSION:2.0
PRODID:-//ChamberMaster//Event Calendar 2.0//EN
METHOD:PUBLISH
X-PUBLISHED-TTL:P3D
REFRESH-INTERVAL:P3D
CALSCALE:GREGORIAN
BEGIN:VEVENT
DTSTART:20050122T060000Z
DTEND:20050122T060000Z
X-MICROSOFT-CDO-ALLDAYEVENT:FALSE
SUMMARY:Awards Dinner 2005
DESCRIPTION:Awards Dinner 2005
X-ALT-DESC;FMTTYPE=text/html:Awards Dinner 2005
LOCATION:The Lincoln Inn
UID:e.1902.1883
SEQUENCE:3
DTSTAMP:20260420T092934Z
URL:https://business.bataviachamber.org/events/details/awards-dinner-2005-01-22-2005-1883
END:VEVENT

END:VCALENDAR
